BEGIN:VCALENDAR
VERSION:2.0
PRODID:-//eventon.com NONSGML v1.0//EN
CALSCALE:GREGORIAN
METHOD:PUBLISH
BEGIN:VEVENT
UID:69e901419e1e1
DTSTAMP:20260422T171129Z
DTSTART:20240904T110000Z
DTEND:20241108T030000Z
LOCATION:Downtown Gatlinburg 631 Parkway
SUMMARY:Gatilnburg Harvest Festival
DESCRIPTION:This year during the Gatlinburg Harvest Festival the City of Ga
 tlinburg will offer extra events and activities to go along with Smoky Moun
 tain Harvest Festival. Every year the community competes for &#8220;Best Ha
 rvest Decorations.&#8221; This year there is the addition of the &#8220;Peo
 ple&#8217;s Choice Award for their favorite displays in[..]\nhttps://dev.el
 kspringsresort.com/blog/events/gatilnburg-harvest-festival/
URL:https://dev.elkspringsresort.com/blog/events/gatilnburg-harvest-festival/
END:VEVENT
END:VCALENDAR